BEGIN:VCALENDAR
VERSION:2.0
PRODID:-//cv de kleibakkers - ECPv6.15.20//NONSGML v1.0//EN
CALSCALE:GREGORIAN
METHOD:PUBLISH
X-WR-CALNAME:cv de kleibakkers
X-ORIGINAL-URL:https://cv-de-kleibakkers.nl
X-WR-CALDESC:Evenementen voor cv de kleibakkers
REFRESH-INTERVAL;VALUE=DURATION:PT1H
X-Robots-Tag:noindex
X-PUBLISHED-TTL:PT1H
BEGIN:VTIMEZONE
TZID:Europe/Amsterdam
BEGIN:DAYLIGHT
TZOFFSETFROM:+0100
TZOFFSETTO:+0200
TZNAME:CEST
DTSTART:20240331T010000
END:DAYLIGHT
BEGIN:STANDARD
TZOFFSETFROM:+0200
TZOFFSETTO:+0100
TZNAME:CET
DTSTART:20241027T010000
END:STANDARD
BEGIN:DAYLIGHT
TZOFFSETFROM:+0100
TZOFFSETTO:+0200
TZNAME:CEST
DTSTART:20250330T010000
END:DAYLIGHT
BEGIN:STANDARD
TZOFFSETFROM:+0200
TZOFFSETTO:+0100
TZNAME:CET
DTSTART:20251026T010000
END:STANDARD
BEGIN:DAYLIGHT
TZOFFSETFROM:+0100
TZOFFSETTO:+0200
TZNAME:CEST
DTSTART:20260329T010000
END:DAYLIGHT
BEGIN:STANDARD
TZOFFSETFROM:+0200
TZOFFSETTO:+0100
TZNAME:CET
DTSTART:20261025T010000
END:STANDARD
BEGIN:DAYLIGHT
TZOFFSETFROM:+0100
TZOFFSETTO:+0200
TZNAME:CEST
DTSTART:20270328T010000
END:DAYLIGHT
BEGIN:STANDARD
TZOFFSETFROM:+0200
TZOFFSETTO:+0100
TZNAME:CET
DTSTART:20271031T010000
END:STANDARD
END:VTIMEZONE
BEGIN:VTIMEZONE
TZID:UTC
BEGIN:STANDARD
TZOFFSETFROM:+0000
TZOFFSETTO:+0000
TZNAME:UTC
DTSTART:20230101T000000
END:STANDARD
END:VTIMEZONE
BEGIN:VEVENT
DTSTART;VALUE=DATE:20260217
DTEND;VALUE=DATE:20260218
DTSTAMP:20260424T203817
CREATED:20250602T084107Z
LAST-MODIFIED:20250926T135954Z
UID:11758-1771286400-1771372799@cv-de-kleibakkers.nl
SUMMARY:Jeugd | Jeugdmiddag bij CV de Kleibakkers
DESCRIPTION:Jeugd | Jeugdmiddag bij CV de Kleibakkers
URL:https://cv-de-kleibakkers.nl/agenda/jeugd-jeugdmiddag-bij-cv-de-kleibakkers/
CATEGORIES:Carnavalsdagen,Feestje,Jeugd
ATTACH;FMTTYPE=image/jpeg:https://cv-de-kleibakkers.nl/wp-content/uploads/2025/06/jeugd-nieuws.jpg
ORGANIZER;CN="CV de Kleibakkers":MAILTO:info@cv-de-kleibakkers.nl
END:VEVENT
BEGIN:VEVENT
DTSTART;VALUE=DATE:20260213
DTEND;VALUE=DATE:20260214
DTSTAMP:20260424T203817
CREATED:20250602T073021Z
LAST-MODIFIED:20250602T073021Z
UID:11732-1770940800-1771027199@cv-de-kleibakkers.nl
SUMMARY:Jeugd - Sleuteloverdracht in Gendt
DESCRIPTION:Jeugd – Sleuteloverdracht in Gendt
URL:https://cv-de-kleibakkers.nl/agenda/jeugd-sleuteloverdracht-in-gendt/
CATEGORIES:Feestje,Jeugd,op bezoek
ATTACH;FMTTYPE=image/jpeg:https://cv-de-kleibakkers.nl/wp-content/uploads/2025/06/jeugd-nieuws.jpg
END:VEVENT
BEGIN:VEVENT
DTSTART;VALUE=DATE:20260213
DTEND;VALUE=DATE:20260214
DTSTAMP:20260424T203817
CREATED:20250602T072535Z
LAST-MODIFIED:20250602T072535Z
UID:11729-1770940800-1771027199@cv-de-kleibakkers.nl
SUMMARY:Jeugd | Carnavalsochtend bij de Deurdouwers
DESCRIPTION:Jeugd | Carnavalsochtend bij de Deurdouwers
URL:https://cv-de-kleibakkers.nl/agenda/jeugd-carnavalsochtend-bij-de-deurdouwers/
CATEGORIES:Feestje,Jeugd,op bezoek
ATTACH;FMTTYPE=image/jpeg:https://cv-de-kleibakkers.nl/wp-content/uploads/2025/06/jeugd-nieuws.jpg
END:VEVENT
BEGIN:VEVENT
DTSTART;TZID=Europe/Amsterdam:20250304T133000
DTEND;TZID=Europe/Amsterdam:20250304T180000
DTSTAMP:20260424T203817
CREATED:20240501T183014Z
LAST-MODIFIED:20250209T133536Z
UID:10376-1741095000-1741111200@cv-de-kleibakkers.nl
SUMMARY:Kindermiddag - CV de Kleibakkers
DESCRIPTION:Kindermiddag – CV de Kleibakkers\, om 13:30 verzamelen bij de Kolk. +/- 17:15 steken afzetten.
URL:https://cv-de-kleibakkers.nl/agenda/kindermiddag-cv-de-kleibakkers/
LOCATION:de kolk\, Haalderen\, Van der Mondeweg 9-11\, Haalderen\, 6685 BK\, Nederland
CATEGORIES:Carnavalsdagen,Feestje,Jeugd
ATTACH;FMTTYPE=image/jpeg:https://cv-de-kleibakkers.nl/wp-content/uploads/2025/02/KOP-kleibakkers-evenement.jpg
ORGANIZER;CN="CV de Kleibakkers":MAILTO:info@cv-de-kleibakkers.nl
END:VEVENT
BEGIN:VEVENT
DTSTART;TZID=Europe/Amsterdam:20250228T084500
DTEND;TZID=Europe/Amsterdam:20250228T110000
DTSTAMP:20260424T203817
CREATED:20250208T112719Z
LAST-MODIFIED:20250208T112719Z
UID:10955-1740732300-1740740400@cv-de-kleibakkers.nl
SUMMARY:Carnaval op school
DESCRIPTION:Carnavals viering op school\, dit is voor het Prinsenpaar\, jeugd\, prinsenkeuze commissie evt bestuur en raad v11.
URL:https://cv-de-kleibakkers.nl/agenda/carnaval-op-school/
CATEGORIES:Carnavalsdagen,Jeugd
ATTACH;FMTTYPE=image/jpeg:https://cv-de-kleibakkers.nl/wp-content/uploads/2020/02/header-nieuws.jpg
END:VEVENT
BEGIN:VEVENT
DTSTART;VALUE=DATE:20250228
DTEND;VALUE=DATE:20250301
DTSTAMP:20260424T203817
CREATED:20240501T181035Z
LAST-MODIFIED:20240501T181035Z
UID:10351-1740700800-1740787199@cv-de-kleibakkers.nl
SUMMARY:Jeugd carnavalsochtend - De Deurdouwers
DESCRIPTION:Jeugd carnavalsochtend – De Deurdouwers
URL:https://cv-de-kleibakkers.nl/agenda/jeugd-carnavalsochtend-de-deurdouwers/
CATEGORIES:Carnavalsdagen,Feestje,Jeugd,op bezoek
ATTACH;FMTTYPE=image/jpeg:https://cv-de-kleibakkers.nl/wp-content/uploads/2020/02/header-nieuws.jpg
END:VEVENT
BEGIN:VEVENT
DTSTART;VALUE=DATE:20250105
DTEND;VALUE=DATE:20250106
DTSTAMP:20260424T203817
CREATED:20241212T100548Z
LAST-MODIFIED:20241222T132215Z
UID:10883-1736035200-1736121599@cv-de-kleibakkers.nl
SUMMARY:dansgarde concours oud-Zevenaar
DESCRIPTION:Dansgarde concours oud-Zevenaar. \nWe verzamelen om 9.30 bij de Tichel en gaan met eigen vervoer. Graag horen wij of je hierbij aanwezig kan zijn en of je wel of niet kan\nrijden.
URL:https://cv-de-kleibakkers.nl/agenda/dansgarde-concours-oud-zevenaar/
CATEGORIES:Jeugd
ATTACH;FMTTYPE=image/jpeg:https://cv-de-kleibakkers.nl/wp-content/uploads/2020/02/header-nieuws.jpg
END:VEVENT
BEGIN:VEVENT
DTSTART;TZID=UTC:20240209T090000
DTEND;TZID=UTC:20240209T140000
DTSTAMP:20260424T203817
CREATED:20230506T155310Z
LAST-MODIFIED:20230506T155310Z
UID:9481-1707469200-1707487200@cv-de-kleibakkers.nl
SUMMARY:Jeugdsleuteloverdracht
DESCRIPTION:Jeugdsleuteloverdracht
URL:https://cv-de-kleibakkers.nl/agenda/jeugdsleuteloverdracht/
CATEGORIES:Jeugd,op bezoek
ATTACH;FMTTYPE=image/jpeg:https://cv-de-kleibakkers.nl/wp-content/uploads/2020/02/header-nieuws.jpg
ORGANIZER;CN="CV de Kleibakkers":MAILTO:info@cv-de-kleibakkers.nl
END:VEVENT
END:VCALENDAR