BEGIN:VCALENDAR
VERSION:2.0
PRODID:-//cv de kleibakkers - ECPv6.15.20//NONSGML v1.0//EN
CALSCALE:GREGORIAN
METHOD:PUBLISH
X-WR-CALNAME:cv de kleibakkers
X-ORIGINAL-URL:https://cv-de-kleibakkers.nl
X-WR-CALDESC:Evenementen voor cv de kleibakkers
REFRESH-INTERVAL;VALUE=DURATION:PT1H
X-Robots-Tag:noindex
X-PUBLISHED-TTL:PT1H
BEGIN:VTIMEZONE
TZID:Europe/Amsterdam
BEGIN:DAYLIGHT
TZOFFSETFROM:+0100
TZOFFSETTO:+0200
TZNAME:CEST
DTSTART:20250330T010000
END:DAYLIGHT
BEGIN:STANDARD
TZOFFSETFROM:+0200
TZOFFSETTO:+0100
TZNAME:CET
DTSTART:20251026T010000
END:STANDARD
BEGIN:DAYLIGHT
TZOFFSETFROM:+0100
TZOFFSETTO:+0200
TZNAME:CEST
DTSTART:20260329T010000
END:DAYLIGHT
BEGIN:STANDARD
TZOFFSETFROM:+0200
TZOFFSETTO:+0100
TZNAME:CET
DTSTART:20261025T010000
END:STANDARD
BEGIN:DAYLIGHT
TZOFFSETFROM:+0100
TZOFFSETTO:+0200
TZNAME:CEST
DTSTART:20270328T010000
END:DAYLIGHT
BEGIN:STANDARD
TZOFFSETFROM:+0200
TZOFFSETTO:+0100
TZNAME:CET
DTSTART:20271031T010000
END:STANDARD
END:VTIMEZONE
BEGIN:VEVENT
DTSTART;TZID=Europe/Amsterdam:20260215T193000
DTEND;TZID=Europe/Amsterdam:20260215T213000
DTSTAMP:20260424T171702
CREATED:20250602T083012Z
LAST-MODIFIED:20250602T083012Z
UID:11748-1771183800-1771191000@cv-de-kleibakkers.nl
SUMMARY:19:30 Verlichte optocht in Gendt
DESCRIPTION:19:30 Verlichte optocht in Gendt
URL:https://cv-de-kleibakkers.nl/agenda/1930-verlichte-optocht-in-gendt/
CATEGORIES:Optocht
ATTACH;FMTTYPE=image/jpeg:https://cv-de-kleibakkers.nl/wp-content/uploads/2020/02/header-nieuws.jpg
END:VEVENT
BEGIN:VEVENT
DTSTART;TZID=Europe/Amsterdam:20260215T150000
DTEND;TZID=Europe/Amsterdam:20260215T170000
DTSTAMP:20260424T171702
CREATED:20250602T082848Z
LAST-MODIFIED:20250602T082848Z
UID:11746-1771167600-1771174800@cv-de-kleibakkers.nl
SUMMARY:15:00 optocht in Bemmel
DESCRIPTION:15:00 optocht in Bemmel
URL:https://cv-de-kleibakkers.nl/agenda/1500-optocht-in-bemmel/
CATEGORIES:Optocht
ATTACH;FMTTYPE=image/jpeg:https://cv-de-kleibakkers.nl/wp-content/uploads/2020/02/header-nieuws.jpg
END:VEVENT
BEGIN:VEVENT
DTSTART;TZID=Europe/Amsterdam:20260215T141100
DTEND;TZID=Europe/Amsterdam:20260215T170000
DTSTAMP:20260424T171702
CREATED:20250602T083251Z
LAST-MODIFIED:20250602T083251Z
UID:11752-1771164660-1771174800@cv-de-kleibakkers.nl
SUMMARY:14:11 optocht in Huissen
DESCRIPTION:14:11 optocht in Huissen
URL:https://cv-de-kleibakkers.nl/agenda/1411-optocht-in-huissen/
CATEGORIES:Optocht
ATTACH;FMTTYPE=image/jpeg:https://cv-de-kleibakkers.nl/wp-content/uploads/2020/02/header-nieuws.jpg
END:VEVENT
BEGIN:VEVENT
DTSTART;TZID=Europe/Amsterdam:20260215T133000
DTEND;TZID=Europe/Amsterdam:20260215T170000
DTSTAMP:20260424T171702
CREATED:20250602T082743Z
LAST-MODIFIED:20250602T082743Z
UID:11744-1771162200-1771174800@cv-de-kleibakkers.nl
SUMMARY:13:30 optocht in Angeren
DESCRIPTION:13:30 optocht in Angeren
URL:https://cv-de-kleibakkers.nl/agenda/1330-optocht-in-angeren/
CATEGORIES:Optocht
ATTACH;FMTTYPE=image/jpeg:https://cv-de-kleibakkers.nl/wp-content/uploads/2020/02/header-nieuws.jpg
END:VEVENT
BEGIN:VEVENT
DTSTART;TZID=Europe/Amsterdam:20260215T123000
DTEND;TZID=Europe/Amsterdam:20260215T170000
DTSTAMP:20260424T171702
CREATED:20250602T083152Z
LAST-MODIFIED:20250602T083152Z
UID:11750-1771158600-1771174800@cv-de-kleibakkers.nl
SUMMARY:12:30 optocht in Haalderen
DESCRIPTION:12:30 optocht in Haalderen
URL:https://cv-de-kleibakkers.nl/agenda/1230-optocht-in-haalderen/
LOCATION:de kolk\, Haalderen\, Van der Mondeweg 9-11\, Haalderen\, 6685 BK\, Nederland
CATEGORIES:Optocht
ATTACH;FMTTYPE=image/jpeg:https://cv-de-kleibakkers.nl/wp-content/uploads/2024/05/kleibakkers-nieuws.jpg
ORGANIZER;CN="CV de Kleibakkers":MAILTO:info@cv-de-kleibakkers.nl
END:VEVENT
END:VCALENDAR