BEGIN:VCALENDAR
VERSION:2.0
PRODID:-//cv de kleibakkers - ECPv6.15.20//NONSGML v1.0//EN
CALSCALE:GREGORIAN
METHOD:PUBLISH
X-WR-CALNAME:cv de kleibakkers
X-ORIGINAL-URL:https://cv-de-kleibakkers.nl
X-WR-CALDESC:Evenementen voor cv de kleibakkers
REFRESH-INTERVAL;VALUE=DURATION:PT1H
X-Robots-Tag:noindex
X-PUBLISHED-TTL:PT1H
BEGIN:VTIMEZONE
TZID:Europe/Amsterdam
BEGIN:DAYLIGHT
TZOFFSETFROM:+0100
TZOFFSETTO:+0200
TZNAME:CEST
DTSTART:20240331T010000
END:DAYLIGHT
BEGIN:STANDARD
TZOFFSETFROM:+0200
TZOFFSETTO:+0100
TZNAME:CET
DTSTART:20241027T010000
END:STANDARD
BEGIN:DAYLIGHT
TZOFFSETFROM:+0100
TZOFFSETTO:+0200
TZNAME:CEST
DTSTART:20250330T010000
END:DAYLIGHT
BEGIN:STANDARD
TZOFFSETFROM:+0200
TZOFFSETTO:+0100
TZNAME:CET
DTSTART:20251026T010000
END:STANDARD
BEGIN:DAYLIGHT
TZOFFSETFROM:+0100
TZOFFSETTO:+0200
TZNAME:CEST
DTSTART:20260329T010000
END:DAYLIGHT
BEGIN:STANDARD
TZOFFSETFROM:+0200
TZOFFSETTO:+0100
TZNAME:CET
DTSTART:20261025T010000
END:STANDARD
BEGIN:DAYLIGHT
TZOFFSETFROM:+0100
TZOFFSETTO:+0200
TZNAME:CEST
DTSTART:20270328T010000
END:DAYLIGHT
BEGIN:STANDARD
TZOFFSETFROM:+0200
TZOFFSETTO:+0100
TZNAME:CET
DTSTART:20271031T010000
END:STANDARD
END:VTIMEZONE
BEGIN:VEVENT
DTSTART;VALUE=DATE:20260214
DTEND;VALUE=DATE:20260215
DTSTAMP:20260424T224548
CREATED:20250602T073645Z
LAST-MODIFIED:20250602T073645Z
UID:11738-1771027200-1771113599@cv-de-kleibakkers.nl
SUMMARY:14:11 Optocht en Alaafterparty in Doornenburg
DESCRIPTION:14:11 Optocht en Alaafterparty in Doornenburg
URL:https://cv-de-kleibakkers.nl/agenda/1411-optocht-en-alaafterparty-in-doornenburg/
CATEGORIES:Feestje,op bezoek
ATTACH;FMTTYPE=image/jpeg:https://cv-de-kleibakkers.nl/wp-content/uploads/2020/02/header-nieuws.jpg
END:VEVENT
BEGIN:VEVENT
DTSTART;VALUE=DATE:20250301
DTEND;VALUE=DATE:20250302
DTSTAMP:20260424T224548
CREATED:20240501T181412Z
LAST-MODIFIED:20240501T181412Z
UID:10356-1740787200-1740873599@cv-de-kleibakkers.nl
SUMMARY:Optocht 14:11 & Alaafterparty - Doornenburg
DESCRIPTION:Optocht 14:11 & Alaafterparty – Doornenburg
URL:https://cv-de-kleibakkers.nl/agenda/optocht-1411-alaafterparty-doornenburg/
CATEGORIES:Feestje,op bezoek
ATTACH;FMTTYPE=image/jpeg:https://cv-de-kleibakkers.nl/wp-content/uploads/2020/02/header-nieuws.jpg
END:VEVENT
END:VCALENDAR