BEGIN:VCALENDAR
VERSION:2.0
PRODID:-//cv de kleibakkers - ECPv6.15.20//NONSGML v1.0//EN
CALSCALE:GREGORIAN
METHOD:PUBLISH
X-ORIGINAL-URL:https://cv-de-kleibakkers.nl
X-WR-CALDESC:Evenementen voor cv de kleibakkers
REFRESH-INTERVAL;VALUE=DURATION:PT1H
X-Robots-Tag:noindex
X-PUBLISHED-TTL:PT1H
BEGIN:VTIMEZONE
TZID:Europe/Amsterdam
BEGIN:DAYLIGHT
TZOFFSETFROM:+0100
TZOFFSETTO:+0200
TZNAME:CEST
DTSTART:20240331T010000
END:DAYLIGHT
BEGIN:STANDARD
TZOFFSETFROM:+0200
TZOFFSETTO:+0100
TZNAME:CET
DTSTART:20241027T010000
END:STANDARD
BEGIN:DAYLIGHT
TZOFFSETFROM:+0100
TZOFFSETTO:+0200
TZNAME:CEST
DTSTART:20250330T010000
END:DAYLIGHT
BEGIN:STANDARD
TZOFFSETFROM:+0200
TZOFFSETTO:+0100
TZNAME:CET
DTSTART:20251026T010000
END:STANDARD
BEGIN:DAYLIGHT
TZOFFSETFROM:+0100
TZOFFSETTO:+0200
TZNAME:CEST
DTSTART:20260329T010000
END:DAYLIGHT
BEGIN:STANDARD
TZOFFSETFROM:+0200
TZOFFSETTO:+0100
TZNAME:CET
DTSTART:20261025T010000
END:STANDARD
END:VTIMEZONE
BEGIN:VTIMEZONE
TZID:UTC
BEGIN:STANDARD
TZOFFSETFROM:+0000
TZOFFSETTO:+0000
TZNAME:UTC
DTSTART:20210101T000000
END:STANDARD
END:VTIMEZONE
BEGIN:VEVENT
DTSTART;TZID=Europe/Amsterdam:20250508T200000
DTEND;TZID=Europe/Amsterdam:20250508T213000
DTSTAMP:20260424T024353
CREATED:20250418T175435Z
LAST-MODIFIED:20250418T175435Z
UID:11681-1746734400-1746739800@cv-de-kleibakkers.nl
SUMMARY:Jaarvergadering CV de Kleibakkers
DESCRIPTION:Zoals ieder jaar\, wederom een jaarvergadering. Wees welkom!
URL:https://cv-de-kleibakkers.nl/agenda/jaarvergadering-cv-de-kleibakkers-2/
LOCATION:de kolk\, Haalderen\, Van der Mondeweg 9-11\, Haalderen\, 6685 BK\, Nederland
CATEGORIES:Vergadering
ATTACH;FMTTYPE=image/jpeg:https://cv-de-kleibakkers.nl/wp-content/uploads/2024/05/kleibakkers-nieuws.jpg
ORGANIZER;CN="CV de Kleibakkers":MAILTO:info@cv-de-kleibakkers.nl
END:VEVENT
BEGIN:VEVENT
DTSTART;TZID=UTC:20240425T200000
DTEND;TZID=UTC:20240425T220000
DTSTAMP:20260424T024353
CREATED:20240223T153811Z
LAST-MODIFIED:20240425T143559Z
UID:10312-1714075200-1714082400@cv-de-kleibakkers.nl
SUMMARY:Algemene ledenvergadering
DESCRIPTION:Het moment om samen te kijken hoe de vereniging ervoor staat en waar we heen gaan. Kom je ook?
URL:https://cv-de-kleibakkers.nl/agenda/algemene-ledenvergadering-2/
LOCATION:de kolk\, Haalderen\, Van der Mondeweg 9-11\, Haalderen\, 6685 BK\, Nederland
CATEGORIES:Vergadering
ATTACH;FMTTYPE=image/jpeg:https://cv-de-kleibakkers.nl/wp-content/uploads/2020/02/header-nieuws.jpg
ORGANIZER;CN="CV de Kleibakkers":MAILTO:info@cv-de-kleibakkers.nl
END:VEVENT
BEGIN:VEVENT
DTSTART;TZID=UTC:20220421T200000
DTEND;TZID=UTC:20220421T213000
DTSTAMP:20260424T024353
CREATED:20220324T110322Z
LAST-MODIFIED:20220324T110322Z
UID:8409-1650571200-1650576600@cv-de-kleibakkers.nl
SUMMARY:Algemene ledenvergadering
DESCRIPTION:Op donderdag 21 april zal om 20:00 in zalencentrum De Kolk de jaarvergadering plaatsvinden.\nMochten mensen zich kandidaat willen stellen voor een bestuursfunctie dan horen we dat graag vooraf\, zodat we dit in de agenda kunnen opnemen.\nDe volgende functie is beschikbaar: Penningmeester Hanneke Janssen\nMaar mochten je interesse hebben in een andere functie\, laat het vooral weten.\nMochten er een vraag zijn om een bepaald onderwerp te bespreken dan horen we dit graag. \nJaarvergadering agenda: \n\nOpening vergadering door de voorzitter\nVerkiezing bestuursleden\nJaarverslag Bestuur (Secretaris)\nVerantwoording Financiën (Penningmeester)\nVerslag bevindingen Kas commissie\nBenoeming nieuwe Kas commissie\nBenoeming Raad van 11\nMogelijk aangedragen onderwerpen (in te dienen ten laatste 14 april)\nSluiting vergadering\n\nIn verband met de begroting voor volgend jaar en fondsenwerving vragen wij aan alle commissies of we wensen zijn om bepaalde grotere uitgaven te doen.\nDeze zullen meegenomen worden in de begroting en zullen gebruikt worden bij fondsenwerving.\nGelieve om voor 10 april jullie investeringswensen aan het bestuur kenbaar te maken.\nDoe geen grote uitgaven zonder toestemming van het bestuur maar we gaan proberen jullie wensen gefinancierd te krijgen en uit te voeren.
URL:https://cv-de-kleibakkers.nl/agenda/algemene-ledenvergadering/
LOCATION:de kolk\, Haalderen\, Van der Mondeweg 9-11\, Haalderen\, 6685 BK\, Nederland
CATEGORIES:Vergadering
ATTACH;FMTTYPE=image/jpeg:https://cv-de-kleibakkers.nl/wp-content/uploads/2020/02/header-nieuws.jpg
ORGANIZER;CN="CV de Kleibakkers":MAILTO:info@cv-de-kleibakkers.nl
END:VEVENT
END:VCALENDAR