BEGIN:VCALENDAR
VERSION:2.0
PRODID:-//cv de kleibakkers - ECPv6.15.20//NONSGML v1.0//EN
CALSCALE:GREGORIAN
METHOD:PUBLISH
X-ORIGINAL-URL:https://cv-de-kleibakkers.nl
X-WR-CALDESC:Evenementen voor cv de kleibakkers
REFRESH-INTERVAL;VALUE=DURATION:PT1H
X-Robots-Tag:noindex
X-PUBLISHED-TTL:PT1H
BEGIN:VTIMEZONE
TZID:UTC
BEGIN:STANDARD
TZOFFSETFROM:+0000
TZOFFSETTO:+0000
TZNAME:UTC
DTSTART:20220101T000000
END:STANDARD
END:VTIMEZONE
BEGIN:VEVENT
DTSTART;TZID=UTC:20230211T140000
DTEND;TZID=UTC:20230211T170000
DTSTAMP:20260424T075804
CREATED:20230115T114821Z
LAST-MODIFIED:20230115T114821Z
UID:8732-1676124000-1676134800@cv-de-kleibakkers.nl
SUMMARY:Taart bakken in Gendt
DESCRIPTION:Om 14:00 gaat het prinsenpaar de taart bakken in Gendt.
URL:https://cv-de-kleibakkers.nl/agenda/taart-bakken-in-gendt/
LOCATION:providentia\, Gendt\, Dorpstraat 5\, Gendt\, Gelderland\, 6691 AV\, Nederland
CATEGORIES:op bezoek
ATTACH;FMTTYPE=image/jpeg:https://cv-de-kleibakkers.nl/wp-content/uploads/2020/02/header-nieuws.jpg
END:VEVENT
END:VCALENDAR