BEGIN:VCALENDAR
VERSION:2.0
PRODID:-//cv de kleibakkers - ECPv6.15.20//NONSGML v1.0//EN
CALSCALE:GREGORIAN
METHOD:PUBLISH
X-ORIGINAL-URL:https://cv-de-kleibakkers.nl
X-WR-CALDESC:Evenementen voor cv de kleibakkers
REFRESH-INTERVAL;VALUE=DURATION:PT1H
X-Robots-Tag:noindex
X-PUBLISHED-TTL:PT1H
BEGIN:VTIMEZONE
TZID:UTC
BEGIN:STANDARD
TZOFFSETFROM:+0000
TZOFFSETTO:+0000
TZNAME:UTC
DTSTART:20220101T000000
END:STANDARD
END:VTIMEZONE
BEGIN:VEVENT
DTSTART;TZID=UTC:20231111T180000
DTEND;TZID=UTC:20231111T233000
DTSTAMP:20260425T015816
CREATED:20230506T153308Z
LAST-MODIFIED:20230506T153308Z
UID:9465-1699725600-1699745400@cv-de-kleibakkers.nl
SUMMARY:Eerste uitje seizoen
DESCRIPTION:Eerste uitje seizoen\, aanmelden voor 1 november. Waar we heen gaan.. ? Het wordt vast gezellig!
URL:https://cv-de-kleibakkers.nl/agenda/eerste-uitje-seizoen/
CATEGORIES:op bezoek
ATTACH;FMTTYPE=image/jpeg:https://cv-de-kleibakkers.nl/wp-content/uploads/2020/02/header-nieuws.jpg
ORGANIZER;CN="CV de Kleibakkers":MAILTO:info@cv-de-kleibakkers.nl
END:VEVENT
BEGIN:VEVENT
DTSTART;VALUE=DATE:20230128
DTEND;VALUE=DATE:20230129
DTSTAMP:20260425T015816
CREATED:20230115T114223Z
LAST-MODIFIED:20230115T114223Z
UID:8725-1674864000-1674950399@cv-de-kleibakkers.nl
SUMMARY:Op bezoek: Driel\, de Toorenuulen
DESCRIPTION:Vandaag gaan we op bezoek in Driel bij de Toorenuulen.
URL:https://cv-de-kleibakkers.nl/agenda/op-bezoek-driel-de-toorenuulen/
CATEGORIES:op bezoek
ATTACH;FMTTYPE=image/jpeg:https://cv-de-kleibakkers.nl/wp-content/uploads/2020/02/header-nieuws.jpg
END:VEVENT
END:VCALENDAR