BEGIN:VCALENDAR
VERSION:2.0
PRODID:-//cv de kleibakkers - ECPv6.15.20//NONSGML v1.0//EN
CALSCALE:GREGORIAN
METHOD:PUBLISH
X-ORIGINAL-URL:https://cv-de-kleibakkers.nl
X-WR-CALDESC:Evenementen voor cv de kleibakkers
REFRESH-INTERVAL;VALUE=DURATION:PT1H
X-Robots-Tag:noindex
X-PUBLISHED-TTL:PT1H
BEGIN:VTIMEZONE
TZID:Europe/Amsterdam
BEGIN:DAYLIGHT
TZOFFSETFROM:+0100
TZOFFSETTO:+0200
TZNAME:CEST
DTSTART:20250330T010000
END:DAYLIGHT
BEGIN:STANDARD
TZOFFSETFROM:+0200
TZOFFSETTO:+0100
TZNAME:CET
DTSTART:20251026T010000
END:STANDARD
BEGIN:DAYLIGHT
TZOFFSETFROM:+0100
TZOFFSETTO:+0200
TZNAME:CEST
DTSTART:20260329T010000
END:DAYLIGHT
BEGIN:STANDARD
TZOFFSETFROM:+0200
TZOFFSETTO:+0100
TZNAME:CET
DTSTART:20261025T010000
END:STANDARD
BEGIN:DAYLIGHT
TZOFFSETFROM:+0100
TZOFFSETTO:+0200
TZNAME:CEST
DTSTART:20270328T010000
END:DAYLIGHT
BEGIN:STANDARD
TZOFFSETFROM:+0200
TZOFFSETTO:+0100
TZNAME:CET
DTSTART:20271031T010000
END:STANDARD
END:VTIMEZONE
BEGIN:VTIMEZONE
TZID:UTC
BEGIN:STANDARD
TZOFFSETFROM:+0000
TZOFFSETTO:+0000
TZNAME:UTC
DTSTART:20220101T000000
END:STANDARD
END:VTIMEZONE
BEGIN:VEVENT
DTSTART;TZID=Europe/Amsterdam:20260214T080000
DTEND;TZID=Europe/Amsterdam:20260214T170000
DTSTAMP:20260425T002053
CREATED:20250602T082515Z
LAST-MODIFIED:20250926T140033Z
UID:11742-1771056000-1771088400@cv-de-kleibakkers.nl
SUMMARY:Feestavond bij CV de Kleibakkers
DESCRIPTION:Feestavond bij CV de Kleibakkers
URL:https://cv-de-kleibakkers.nl/agenda/feestavond-bij-cv-de-kleibakkers/
CATEGORIES:Carnavalsdagen,Feestje
ATTACH;FMTTYPE=image/jpeg:https://cv-de-kleibakkers.nl/wp-content/uploads/2024/05/kleibakkers-nieuws.jpg
ORGANIZER;CN="CV de Kleibakkers":MAILTO:info@cv-de-kleibakkers.nl
END:VEVENT
BEGIN:VEVENT
DTSTART;VALUE=DATE:20240210
DTEND;VALUE=DATE:20240214
DTSTAMP:20260425T002053
CREATED:20230506T155517Z
LAST-MODIFIED:20230506T155517Z
UID:9483-1707523200-1707868799@cv-de-kleibakkers.nl
SUMMARY:Carnaval 2024
DESCRIPTION:Carnaval 2024
URL:https://cv-de-kleibakkers.nl/agenda/carnaval-2024/
LOCATION:de kolk\, Haalderen\, Van der Mondeweg 9-11\, Haalderen\, 6685 BK\, Nederland
CATEGORIES:Carnavalsdagen
ATTACH;FMTTYPE=image/jpeg:https://cv-de-kleibakkers.nl/wp-content/uploads/2020/02/header-nieuws.jpg
ORGANIZER;CN="CV de Kleibakkers":MAILTO:info@cv-de-kleibakkers.nl
END:VEVENT
BEGIN:VEVENT
DTSTART;VALUE=DATE:20230218
DTEND;VALUE=DATE:20230222
DTSTAMP:20260425T002053
CREATED:20230123T144048Z
LAST-MODIFIED:20230123T144050Z
UID:8765-1676678400-1677023999@cv-de-kleibakkers.nl
SUMMARY:Carnavalsdagen 2023
DESCRIPTION:Zaterdag 18 februari\n19.30 zaal open\nStart 20.11\nNicky’s pride\nEntree 10 euro (Leden gratis entree) \nZondag 19 februari\n12.00 optocht\n13.00 feest in de Kolk met dj Eleven \nEntree 5 euro voor niet leden en kinderen vanaf 12 jaar (Gratis voor leden). \nMaandag 20 februari\nPub quiz\nZaal open 19.00 uur\nInleg €2\,50 (Inleg is prijzengeld)\nPub quiz begint 20.00 \nDinsdag 21 februari\nKindermiddag\nBegint om 14.00 uur\nClown click & Dj mighty Mike\nEntree 2\,50
URL:https://cv-de-kleibakkers.nl/agenda/carnavalsdagen-2023/
LOCATION:de kolk\, Haalderen\, Van der Mondeweg 9-11\, Haalderen\, 6685 BK\, Nederland
CATEGORIES:Carnavalsdagen
ATTACH;FMTTYPE=image/jpeg:https://cv-de-kleibakkers.nl/wp-content/uploads/2020/02/header-nieuws.jpg
ORGANIZER;CN="CV de Kleibakkers":MAILTO:info@cv-de-kleibakkers.nl
END:VEVENT
END:VCALENDAR