BEGIN:VCALENDAR
VERSION:2.0
PRODID:-//cv de kleibakkers - ECPv6.15.20//NONSGML v1.0//EN
CALSCALE:GREGORIAN
METHOD:PUBLISH
X-WR-CALNAME:cv de kleibakkers
X-ORIGINAL-URL:https://cv-de-kleibakkers.nl
X-WR-CALDESC:Evenementen voor cv de kleibakkers
REFRESH-INTERVAL;VALUE=DURATION:PT1H
X-Robots-Tag:noindex
X-PUBLISHED-TTL:PT1H
BEGIN:VTIMEZONE
TZID:Europe/Amsterdam
BEGIN:DAYLIGHT
TZOFFSETFROM:+0100
TZOFFSETTO:+0200
TZNAME:CEST
DTSTART:20240331T010000
END:DAYLIGHT
BEGIN:STANDARD
TZOFFSETFROM:+0200
TZOFFSETTO:+0100
TZNAME:CET
DTSTART:20241027T010000
END:STANDARD
BEGIN:DAYLIGHT
TZOFFSETFROM:+0100
TZOFFSETTO:+0200
TZNAME:CEST
DTSTART:20250330T010000
END:DAYLIGHT
BEGIN:STANDARD
TZOFFSETFROM:+0200
TZOFFSETTO:+0100
TZNAME:CET
DTSTART:20251026T010000
END:STANDARD
BEGIN:DAYLIGHT
TZOFFSETFROM:+0100
TZOFFSETTO:+0200
TZNAME:CEST
DTSTART:20260329T010000
END:DAYLIGHT
BEGIN:STANDARD
TZOFFSETFROM:+0200
TZOFFSETTO:+0100
TZNAME:CET
DTSTART:20261025T010000
END:STANDARD
END:VTIMEZONE
BEGIN:VEVENT
DTSTART;TZID=Europe/Amsterdam:20251122T193000
DTEND;TZID=Europe/Amsterdam:20251123T010000
DTSTAMP:20260424T202610
CREATED:20250527T161454Z
LAST-MODIFIED:20250826T074434Z
UID:11713-1763839800-1763859600@cv-de-kleibakkers.nl
SUMMARY:Pronkzitting - De Kleibakkers
DESCRIPTION:Pronkzitting in zalencentrum de Kolk met muziek van Gino Graus
URL:https://cv-de-kleibakkers.nl/agenda/pronkzitting-de-kleibakkers/
LOCATION:de kolk\, Haalderen\, Van der Mondeweg 9-11\, Haalderen\, 6685 BK\, Nederland
CATEGORIES:Feestje,Pronkzitting
ATTACH;FMTTYPE=image/jpeg:https://cv-de-kleibakkers.nl/wp-content/uploads/2025/02/KOP-kleibakkers-evenement.jpg
ORGANIZER;CN="CV de Kleibakkers":MAILTO:info@cv-de-kleibakkers.nl
END:VEVENT
END:VCALENDAR