BEGIN:VCALENDAR
VERSION:2.0
PRODID:-//cv de kleibakkers - ECPv6.15.20//NONSGML v1.0//EN
CALSCALE:GREGORIAN
METHOD:PUBLISH
X-ORIGINAL-URL:https://cv-de-kleibakkers.nl
X-WR-CALDESC:Evenementen voor cv de kleibakkers
REFRESH-INTERVAL;VALUE=DURATION:PT1H
X-Robots-Tag:noindex
X-PUBLISHED-TTL:PT1H
BEGIN:VTIMEZONE
TZID:Europe/Amsterdam
BEGIN:DAYLIGHT
TZOFFSETFROM:+0100
TZOFFSETTO:+0200
TZNAME:CEST
DTSTART:20240331T010000
END:DAYLIGHT
BEGIN:STANDARD
TZOFFSETFROM:+0200
TZOFFSETTO:+0100
TZNAME:CET
DTSTART:20241027T010000
END:STANDARD
BEGIN:DAYLIGHT
TZOFFSETFROM:+0100
TZOFFSETTO:+0200
TZNAME:CEST
DTSTART:20250330T010000
END:DAYLIGHT
BEGIN:STANDARD
TZOFFSETFROM:+0200
TZOFFSETTO:+0100
TZNAME:CET
DTSTART:20251026T010000
END:STANDARD
BEGIN:DAYLIGHT
TZOFFSETFROM:+0100
TZOFFSETTO:+0200
TZNAME:CEST
DTSTART:20260329T010000
END:DAYLIGHT
BEGIN:STANDARD
TZOFFSETFROM:+0200
TZOFFSETTO:+0100
TZNAME:CET
DTSTART:20261025T010000
END:STANDARD
END:VTIMEZONE
BEGIN:VEVENT
DTSTART;TZID=Europe/Amsterdam:20250329T191100
DTEND;TZID=Europe/Amsterdam:20250329T220000
DTSTAMP:20260424T043927
CREATED:20250317T162030Z
LAST-MODIFIED:20250317T162030Z
UID:11601-1743275460-1743285600@cv-de-kleibakkers.nl
SUMMARY:Verlichte halfvastenoptocht
DESCRIPTION:Verlichte halfvastenoptocht Veko\, Elst. Begint om 19:11.
URL:https://cv-de-kleibakkers.nl/agenda/verlichte-halfvastenoptocht/
LOCATION:Onder de Toren\, Sint Maartenstraat 34\, Elst\, 6661 DA\, Netherlands
CATEGORIES:Feestje,op bezoek
ATTACH;FMTTYPE=image/jpeg:https://cv-de-kleibakkers.nl/wp-content/uploads/2020/02/header-nieuws.jpg
END:VEVENT
BEGIN:VEVENT
DTSTART;TZID=Europe/Amsterdam:20250323T080000
DTEND;TZID=Europe/Amsterdam:20250323T170000
DTSTAMP:20260424T043927
CREATED:20250317T161611Z
LAST-MODIFIED:20250317T161611Z
UID:11598-1742716800-1742749200@cv-de-kleibakkers.nl
SUMMARY:Halfvastenoptocht
DESCRIPTION:Halfvastenoptocht Narrenpoel\, tijd is nog niet bekend. \nhttps://halfvasten.narrenpoel.nl/over-de-optocht/
URL:https://cv-de-kleibakkers.nl/agenda/halfvastenoptocht/
LOCATION:Zahnstraat\, Angeren\, Zahnstraat\, Angeren\, 6687 AP\, Netherlands
CATEGORIES:Feestje,op bezoek
ATTACH;FMTTYPE=image/jpeg:https://cv-de-kleibakkers.nl/wp-content/uploads/2020/02/header-nieuws.jpg
END:VEVENT
END:VCALENDAR