BEGIN:VCALENDAR
VERSION:2.0
PRODID:-//cv de kleibakkers - ECPv6.15.20//NONSGML v1.0//EN
CALSCALE:GREGORIAN
METHOD:PUBLISH
X-ORIGINAL-URL:https://cv-de-kleibakkers.nl
X-WR-CALDESC:Evenementen voor cv de kleibakkers
REFRESH-INTERVAL;VALUE=DURATION:PT1H
X-Robots-Tag:noindex
X-PUBLISHED-TTL:PT1H
BEGIN:VTIMEZONE
TZID:Europe/Amsterdam
BEGIN:DAYLIGHT
TZOFFSETFROM:+0100
TZOFFSETTO:+0200
TZNAME:CEST
DTSTART:20230326T010000
END:DAYLIGHT
BEGIN:STANDARD
TZOFFSETFROM:+0200
TZOFFSETTO:+0100
TZNAME:CET
DTSTART:20231029T010000
END:STANDARD
BEGIN:DAYLIGHT
TZOFFSETFROM:+0100
TZOFFSETTO:+0200
TZNAME:CEST
DTSTART:20240331T010000
END:DAYLIGHT
BEGIN:STANDARD
TZOFFSETFROM:+0200
TZOFFSETTO:+0100
TZNAME:CET
DTSTART:20241027T010000
END:STANDARD
BEGIN:DAYLIGHT
TZOFFSETFROM:+0100
TZOFFSETTO:+0200
TZNAME:CEST
DTSTART:20250330T010000
END:DAYLIGHT
BEGIN:STANDARD
TZOFFSETFROM:+0200
TZOFFSETTO:+0100
TZNAME:CET
DTSTART:20251026T010000
END:STANDARD
BEGIN:DAYLIGHT
TZOFFSETFROM:+0100
TZOFFSETTO:+0200
TZNAME:CEST
DTSTART:20260329T010000
END:DAYLIGHT
BEGIN:STANDARD
TZOFFSETFROM:+0200
TZOFFSETTO:+0100
TZNAME:CET
DTSTART:20261025T010000
END:STANDARD
END:VTIMEZONE
BEGIN:VTIMEZONE
TZID:UTC
BEGIN:STANDARD
TZOFFSETFROM:+0000
TZOFFSETTO:+0000
TZNAME:UTC
DTSTART:20220101T000000
END:STANDARD
END:VTIMEZONE
BEGIN:VEVENT
DTSTART;VALUE=DATE:20251004
DTEND;VALUE=DATE:20251005
DTSTAMP:20260425T033917
CREATED:20250826T074205Z
LAST-MODIFIED:20250826T074205Z
UID:11815-1759536000-1759622399@cv-de-kleibakkers.nl
SUMMARY:Vrijwilligersfeest
DESCRIPTION:Ons jaarlijks vrijwilligersfeest voor actieve leden
URL:https://cv-de-kleibakkers.nl/agenda/vrijwilligersfeest/
LOCATION:HAVO\, Notenboomstraat\, Haalderen\, Gelderland\, 6685 AK\, Nederland
CATEGORIES:Feestje,Vrijwilligers
ATTACH;FMTTYPE=image/jpeg:https://cv-de-kleibakkers.nl/wp-content/uploads/2025/02/KOP-kleibakkers-evenement.jpg
END:VEVENT
BEGIN:VEVENT
DTSTART;TZID=Europe/Amsterdam:20250222T143000
DTEND;TZID=Europe/Amsterdam:20250222T160000
DTSTAMP:20260425T033917
CREATED:20250207T133531Z
LAST-MODIFIED:20250207T133531Z
UID:10953-1740234600-1740240000@cv-de-kleibakkers.nl
SUMMARY:Uitreiken taarten (Jeugd en Volwassenen)
DESCRIPTION:Uitreiken taarten (Jeugd en Volwassenen)\, bij HAVO in Haalderen\, eigen vervoer.
URL:https://cv-de-kleibakkers.nl/agenda/uitreiken-taarten-jeugd-en-volwassenen/
LOCATION:HAVO\, Notenboomstraat\, Haalderen\, Gelderland\, 6685 AK\, Nederland
CATEGORIES:Feestje,op bezoek
ATTACH;FMTTYPE=image/jpeg:https://cv-de-kleibakkers.nl/wp-content/uploads/2024/05/kleibakkers-nieuws.jpg
END:VEVENT
BEGIN:VEVENT
DTSTART;TZID=Europe/Amsterdam:20241214T150000
DTEND;TZID=Europe/Amsterdam:20241214T180000
DTSTAMP:20260425T033917
CREATED:20241109T155003Z
LAST-MODIFIED:20241109T155003Z
UID:10472-1734188400-1734199200@cv-de-kleibakkers.nl
SUMMARY:Kerstmarkt HAVO
DESCRIPTION:Ook dit jaar\, staan wij weer op de kerstmarkt bij HAVO. Gezellig! Je kunt bij ons terecht voor sjaals\, pins\, vlaggen en natuurlijk de oliebollen bestellingen.
URL:https://cv-de-kleibakkers.nl/agenda/kerstmarkt-havo/
LOCATION:HAVO\, Notenboomstraat\, Haalderen\, Gelderland\, 6685 AK\, Nederland
CATEGORIES:Oliebollenactie,op bezoek
ATTACH;FMTTYPE=image/jpeg:https://cv-de-kleibakkers.nl/wp-content/uploads/2024/05/kleibakkers-nieuws.jpg
ORGANIZER;CN="CV de Kleibakkers":MAILTO:info@cv-de-kleibakkers.nl
END:VEVENT
BEGIN:VEVENT
DTSTART;TZID=UTC:20230115T133000
DTEND;TZID=UTC:20230115T180000
DTSTAMP:20260425T033917
CREATED:20221214T154332Z
LAST-MODIFIED:20221214T154907Z
UID:8719-1673789400-1673805600@cv-de-kleibakkers.nl
SUMMARY:Prinsenaftrap HAVO -DVOL
DESCRIPTION:We gaan het nog eens proberen nadat de wedstrijd werdt afgelast. De prinsenaftrap tussen Haalderen en Lent en aansluitend een feestje bij HAVO. \nLid van de vereniging en ga je mee? Meld je dan even aan bij de voorzitter Jaan.
URL:https://cv-de-kleibakkers.nl/agenda/prinsenaftrap-havo-dvol/
LOCATION:HAVO\, Notenboomstraat\, Haalderen\, Gelderland\, 6685 AK\, Nederland
CATEGORIES:op bezoek
ATTACH;FMTTYPE=image/jpeg:https://cv-de-kleibakkers.nl/wp-content/uploads/2020/02/header-nieuws.jpg
ORGANIZER;CN="CV de Kleibakkers":MAILTO:info@cv-de-kleibakkers.nl
END:VEVENT
END:VCALENDAR