BEGIN:VCALENDAR
VERSION:2.0
PRODID:-//cv de kleibakkers - ECPv6.15.20//NONSGML v1.0//EN
CALSCALE:GREGORIAN
METHOD:PUBLISH
X-WR-CALNAME:cv de kleibakkers
X-ORIGINAL-URL:https://cv-de-kleibakkers.nl
X-WR-CALDESC:Evenementen voor cv de kleibakkers
REFRESH-INTERVAL;VALUE=DURATION:PT1H
X-Robots-Tag:noindex
X-PUBLISHED-TTL:PT1H
BEGIN:VTIMEZONE
TZID:Europe/Amsterdam
BEGIN:DAYLIGHT
TZOFFSETFROM:+0100
TZOFFSETTO:+0200
TZNAME:CEST
DTSTART:20240331T010000
END:DAYLIGHT
BEGIN:STANDARD
TZOFFSETFROM:+0200
TZOFFSETTO:+0100
TZNAME:CET
DTSTART:20241027T010000
END:STANDARD
BEGIN:DAYLIGHT
TZOFFSETFROM:+0100
TZOFFSETTO:+0200
TZNAME:CEST
DTSTART:20250330T010000
END:DAYLIGHT
BEGIN:STANDARD
TZOFFSETFROM:+0200
TZOFFSETTO:+0100
TZNAME:CET
DTSTART:20251026T010000
END:STANDARD
BEGIN:DAYLIGHT
TZOFFSETFROM:+0100
TZOFFSETTO:+0200
TZNAME:CEST
DTSTART:20260329T010000
END:DAYLIGHT
BEGIN:STANDARD
TZOFFSETFROM:+0200
TZOFFSETTO:+0100
TZNAME:CET
DTSTART:20261025T010000
END:STANDARD
BEGIN:DAYLIGHT
TZOFFSETFROM:+0100
TZOFFSETTO:+0200
TZNAME:CEST
DTSTART:20270328T010000
END:DAYLIGHT
BEGIN:STANDARD
TZOFFSETFROM:+0200
TZOFFSETTO:+0100
TZNAME:CET
DTSTART:20271031T010000
END:STANDARD
END:VTIMEZONE
BEGIN:VTIMEZONE
TZID:UTC
BEGIN:STANDARD
TZOFFSETFROM:+0000
TZOFFSETTO:+0000
TZNAME:UTC
DTSTART:20210101T000000
END:STANDARD
END:VTIMEZONE
BEGIN:VEVENT
DTSTART;TZID=Europe/Amsterdam:20260215T141100
DTEND;TZID=Europe/Amsterdam:20260215T170000
DTSTAMP:20260424T185034
CREATED:20250602T083251Z
LAST-MODIFIED:20250602T083251Z
UID:11752-1771164660-1771174800@cv-de-kleibakkers.nl
SUMMARY:14:11 optocht in Huissen
DESCRIPTION:14:11 optocht in Huissen
URL:https://cv-de-kleibakkers.nl/agenda/1411-optocht-in-huissen/
CATEGORIES:Optocht
ATTACH;FMTTYPE=image/jpeg:https://cv-de-kleibakkers.nl/wp-content/uploads/2020/02/header-nieuws.jpg
END:VEVENT
BEGIN:VEVENT
DTSTART;VALUE=DATE:20260207
DTEND;VALUE=DATE:20260208
DTSTAMP:20260424T185034
CREATED:20250602T073202Z
LAST-MODIFIED:20250602T073202Z
UID:11734-1770422400-1770508799@cv-de-kleibakkers.nl
SUMMARY:Pronkzitting van de Hofbrouwers in Huissen
DESCRIPTION:Pronkzitting van de Hofbrouwers in Huissen
URL:https://cv-de-kleibakkers.nl/agenda/pronkzitting-van-de-hofbrouwers-in-huissen/
CATEGORIES:Feestje,op bezoek
ATTACH;FMTTYPE=image/jpeg:https://cv-de-kleibakkers.nl/wp-content/uploads/2020/02/header-nieuws.jpg
END:VEVENT
BEGIN:VEVENT
DTSTART;TZID=Europe/Amsterdam:20250302T141100
DTEND;TZID=Europe/Amsterdam:20250302T151100
DTSTAMP:20260424T185034
CREATED:20240501T182443Z
LAST-MODIFIED:20240501T182443Z
UID:10368-1740924660-1740928260@cv-de-kleibakkers.nl
SUMMARY:Optocht 14:11 - Huissen
DESCRIPTION:Optocht 14:11 – Huissen
URL:https://cv-de-kleibakkers.nl/agenda/optocht-1411-huissen/
LOCATION:Huissen\, Nederland
CATEGORIES:Carnavalsdagen,Feestje,op bezoek
ATTACH;FMTTYPE=image/jpeg:https://cv-de-kleibakkers.nl/wp-content/uploads/2020/02/header-nieuws.jpg
END:VEVENT
BEGIN:VEVENT
DTSTART;TZID=UTC:20231111T094400
DTEND;TZID=UTC:20231111T190000
DTSTAMP:20260424T185034
CREATED:20231025T131355Z
LAST-MODIFIED:20231025T131355Z
UID:9555-1699695840-1699729200@cv-de-kleibakkers.nl
SUMMARY:Opening Carnavals-seizoen in Huissen
DESCRIPTION:09:44 in de Buitenpoort\, 11:11 op de Markt in Huissen. Opening bij de Kraonige Zwaone. \nMeer informatie op: https://www.dekraonigezwaone.nl/nieuws/
URL:https://cv-de-kleibakkers.nl/agenda/opening-carnavals-seizoen-in-huissen/
LOCATION:Huissen\, Nederland
CATEGORIES:Feestje
ATTACH;FMTTYPE=image/jpeg:https://cv-de-kleibakkers.nl/wp-content/uploads/2020/02/header-nieuws.jpg
END:VEVENT
BEGIN:VEVENT
DTSTART;TZID=UTC:20221112T080000
DTEND;TZID=UTC:20221112T170000
DTSTAMP:20260424T185034
CREATED:20221112T081646Z
LAST-MODIFIED:20221112T081724Z
UID:8440-1668240000-1668272400@cv-de-kleibakkers.nl
SUMMARY:Naar 66 jaor Kraonige Zwaone
DESCRIPTION:Zaterdag overdag zijn wij te vinden in Huissen bij de Kraonige Zwaone: https://www.facebook.com/events/465324832240264
URL:https://cv-de-kleibakkers.nl/agenda/noar-66-jaor-kraonige-zwaone/
CATEGORIES:op bezoek
ATTACH;FMTTYPE=image/jpeg:https://cv-de-kleibakkers.nl/wp-content/uploads/2020/02/header-nieuws.jpg
END:VEVENT
END:VCALENDAR