BEGIN:VCALENDAR
VERSION:2.0
PRODID:-//cv de kleibakkers - ECPv6.15.20//NONSGML v1.0//EN
CALSCALE:GREGORIAN
METHOD:PUBLISH
X-ORIGINAL-URL:https://cv-de-kleibakkers.nl
X-WR-CALDESC:Evenementen voor cv de kleibakkers
REFRESH-INTERVAL;VALUE=DURATION:PT1H
X-Robots-Tag:noindex
X-PUBLISHED-TTL:PT1H
BEGIN:VTIMEZONE
TZID:Europe/Amsterdam
BEGIN:DAYLIGHT
TZOFFSETFROM:+0100
TZOFFSETTO:+0200
TZNAME:CEST
DTSTART:20230326T010000
END:DAYLIGHT
BEGIN:STANDARD
TZOFFSETFROM:+0200
TZOFFSETTO:+0100
TZNAME:CET
DTSTART:20231029T010000
END:STANDARD
BEGIN:DAYLIGHT
TZOFFSETFROM:+0100
TZOFFSETTO:+0200
TZNAME:CEST
DTSTART:20240331T010000
END:DAYLIGHT
BEGIN:STANDARD
TZOFFSETFROM:+0200
TZOFFSETTO:+0100
TZNAME:CET
DTSTART:20241027T010000
END:STANDARD
BEGIN:DAYLIGHT
TZOFFSETFROM:+0100
TZOFFSETTO:+0200
TZNAME:CEST
DTSTART:20250330T010000
END:DAYLIGHT
BEGIN:STANDARD
TZOFFSETFROM:+0200
TZOFFSETTO:+0100
TZNAME:CET
DTSTART:20251026T010000
END:STANDARD
BEGIN:DAYLIGHT
TZOFFSETFROM:+0100
TZOFFSETTO:+0200
TZNAME:CEST
DTSTART:20260329T010000
END:DAYLIGHT
BEGIN:STANDARD
TZOFFSETFROM:+0200
TZOFFSETTO:+0100
TZNAME:CET
DTSTART:20261025T010000
END:STANDARD
END:VTIMEZONE
BEGIN:VEVENT
DTSTART;TZID=Europe/Amsterdam:20251115T193000
DTEND;TZID=Europe/Amsterdam:20251116T010000
DTSTAMP:20260424T223255
CREATED:20250602T085915Z
LAST-MODIFIED:20250602T090829Z
UID:11764-1763235000-1763254800@cv-de-kleibakkers.nl
SUMMARY:openingsavond/prinsenwissel de Gentenarren
DESCRIPTION:
URL:https://cv-de-kleibakkers.nl/agenda/openingsavond-prinsenwissel-de-gentenarren/
LOCATION:providentia\, Gendt\, Dorpstraat 5\, Gendt\, Gelderland\, 6691 AV\, Nederland
CATEGORIES:Feestje,op bezoek,Prinsenbal
ATTACH;FMTTYPE=image/jpeg:https://cv-de-kleibakkers.nl/wp-content/uploads/2020/02/header-nieuws.jpg
END:VEVENT
BEGIN:VEVENT
DTSTART;TZID=Europe/Amsterdam:20251115T193000
DTEND;TZID=Europe/Amsterdam:20251116T010000
DTSTAMP:20260424T223255
CREATED:20250602T085453Z
LAST-MODIFIED:20250602T085453Z
UID:11762-1763235000-1763254800@cv-de-kleibakkers.nl
SUMMARY:openingsavond/prinsenwissel de Geintrappers
DESCRIPTION:
URL:https://cv-de-kleibakkers.nl/agenda/openingsavond-prinsenwissel-de-geintrappers/
LOCATION:cafe de Roskam\, Dorpsstraat 95\, Bemmel\, 6681 BM\, Nederland
CATEGORIES:Feestje,op bezoek,Prinsenbal
ATTACH;FMTTYPE=image/jpeg:https://cv-de-kleibakkers.nl/wp-content/uploads/2020/02/header-nieuws.jpg
END:VEVENT
BEGIN:VEVENT
DTSTART;VALUE=DATE:20241123
DTEND;VALUE=DATE:20241124
DTSTAMP:20260424T223255
CREATED:20240501T175155Z
LAST-MODIFIED:20240501T184529Z
UID:10332-1732320000-1732406399@cv-de-kleibakkers.nl
SUMMARY:Prinsenwissel - De Kleibakkers
DESCRIPTION:Prinsenwissel – De Kleibakkers
URL:https://cv-de-kleibakkers.nl/agenda/prinsenwissel-de-kleibakkers/
LOCATION:de kolk\, Haalderen\, Van der Mondeweg 9-11\, Haalderen\, 6685 BK\, Nederland
CATEGORIES:Feestje,Prinsenbal
ATTACH;FMTTYPE=image/jpeg:https://cv-de-kleibakkers.nl/wp-content/uploads/2024/05/kleibakkers-nieuws.jpg
ORGANIZER;CN="CV de Kleibakkers":MAILTO:info@cv-de-kleibakkers.nl
END:VEVENT
END:VCALENDAR