BEGIN:VCALENDAR
VERSION:2.0
PRODID:-//cv de kleibakkers - ECPv6.15.20//NONSGML v1.0//EN
CALSCALE:GREGORIAN
METHOD:PUBLISH
X-WR-CALNAME:cv de kleibakkers
X-ORIGINAL-URL:https://cv-de-kleibakkers.nl
X-WR-CALDESC:Evenementen voor cv de kleibakkers
REFRESH-INTERVAL;VALUE=DURATION:PT1H
X-Robots-Tag:noindex
X-PUBLISHED-TTL:PT1H
BEGIN:VTIMEZONE
TZID:Europe/Amsterdam
BEGIN:DAYLIGHT
TZOFFSETFROM:+0100
TZOFFSETTO:+0200
TZNAME:CEST
DTSTART:20240331T010000
END:DAYLIGHT
BEGIN:STANDARD
TZOFFSETFROM:+0200
TZOFFSETTO:+0100
TZNAME:CET
DTSTART:20241027T010000
END:STANDARD
BEGIN:DAYLIGHT
TZOFFSETFROM:+0100
TZOFFSETTO:+0200
TZNAME:CEST
DTSTART:20250330T010000
END:DAYLIGHT
BEGIN:STANDARD
TZOFFSETFROM:+0200
TZOFFSETTO:+0100
TZNAME:CET
DTSTART:20251026T010000
END:STANDARD
BEGIN:DAYLIGHT
TZOFFSETFROM:+0100
TZOFFSETTO:+0200
TZNAME:CEST
DTSTART:20260329T010000
END:DAYLIGHT
BEGIN:STANDARD
TZOFFSETFROM:+0200
TZOFFSETTO:+0100
TZNAME:CET
DTSTART:20261025T010000
END:STANDARD
BEGIN:DAYLIGHT
TZOFFSETFROM:+0100
TZOFFSETTO:+0200
TZNAME:CEST
DTSTART:20270328T010000
END:DAYLIGHT
BEGIN:STANDARD
TZOFFSETFROM:+0200
TZOFFSETTO:+0100
TZNAME:CET
DTSTART:20271031T010000
END:STANDARD
END:VTIMEZONE
BEGIN:VTIMEZONE
TZID:UTC
BEGIN:STANDARD
TZOFFSETFROM:+0000
TZOFFSETTO:+0000
TZNAME:UTC
DTSTART:20230101T000000
END:STANDARD
END:VTIMEZONE
BEGIN:VEVENT
DTSTART;VALUE=DATE:20260214
DTEND;VALUE=DATE:20260215
DTSTAMP:20260424T170949
CREATED:20250602T082157Z
LAST-MODIFIED:20250602T082157Z
UID:11740-1771027200-1771113599@cv-de-kleibakkers.nl
SUMMARY:Sleuteloverdracht in Gendt
DESCRIPTION:Sleuteloverdracht in Gendt
URL:https://cv-de-kleibakkers.nl/agenda/sleuteloverdracht-in-gendt/
CATEGORIES:Feestje,op bezoek
ATTACH;FMTTYPE=image/jpeg:https://cv-de-kleibakkers.nl/wp-content/uploads/2020/02/header-nieuws.jpg
END:VEVENT
BEGIN:VEVENT
DTSTART;VALUE=DATE:20260213
DTEND;VALUE=DATE:20260214
DTSTAMP:20260424T170949
CREATED:20250602T073021Z
LAST-MODIFIED:20250602T073021Z
UID:11732-1770940800-1771027199@cv-de-kleibakkers.nl
SUMMARY:Jeugd - Sleuteloverdracht in Gendt
DESCRIPTION:Jeugd – Sleuteloverdracht in Gendt
URL:https://cv-de-kleibakkers.nl/agenda/jeugd-sleuteloverdracht-in-gendt/
CATEGORIES:Feestje,Jeugd,op bezoek
ATTACH;FMTTYPE=image/jpeg:https://cv-de-kleibakkers.nl/wp-content/uploads/2025/06/jeugd-nieuws.jpg
END:VEVENT
BEGIN:VEVENT
DTSTART;TZID=Europe/Amsterdam:20250301T091500
DTEND;TZID=Europe/Amsterdam:20250301T120000
DTSTAMP:20260424T170949
CREATED:20240501T181232Z
LAST-MODIFIED:20250208T113257Z
UID:10354-1740820500-1740830400@cv-de-kleibakkers.nl
SUMMARY:Sleuteloverdracht - Bemmel
DESCRIPTION:Sleuteloverdracht – Bemmel. Om 9:15 verzamelen bij de Tichel met eigen vervoer.
URL:https://cv-de-kleibakkers.nl/agenda/sleuteloverdracht-bemmel/
LOCATION:de Kinkel\, Van Ambestraat 1\, Bemmel\, 6681 AK\, Netherlands
CATEGORIES:Carnavalsdagen,Feestje,op bezoek
ATTACH;FMTTYPE=image/jpeg:https://cv-de-kleibakkers.nl/wp-content/uploads/2020/02/header-nieuws.jpg
END:VEVENT
BEGIN:VEVENT
DTSTART;TZID=UTC:20240209T090000
DTEND;TZID=UTC:20240209T140000
DTSTAMP:20260424T170949
CREATED:20230506T155310Z
LAST-MODIFIED:20230506T155310Z
UID:9481-1707469200-1707487200@cv-de-kleibakkers.nl
SUMMARY:Jeugdsleuteloverdracht
DESCRIPTION:Jeugdsleuteloverdracht
URL:https://cv-de-kleibakkers.nl/agenda/jeugdsleuteloverdracht/
CATEGORIES:Jeugd,op bezoek
ATTACH;FMTTYPE=image/jpeg:https://cv-de-kleibakkers.nl/wp-content/uploads/2020/02/header-nieuws.jpg
ORGANIZER;CN="CV de Kleibakkers":MAILTO:info@cv-de-kleibakkers.nl
END:VEVENT
END:VCALENDAR